BEGIN:VCALENDAR
VERSION:2.0
PRODID:-//Siuntion Venekerho - Sjunde&aring; B&aring;tklubb ry - ECPv6.15.20//NONSGML v1.0//EN
CALSCALE:GREGORIAN
METHOD:PUBLISH
X-WR-CALNAME:Siuntion Venekerho - Sjunde&aring; B&aring;tklubb ry
X-ORIGINAL-URL:https://siuntionvenekerho.fi
X-WR-CALDESC:Events for Siuntion Venekerho - Sjunde&aring; B&aring;tklubb ry
REFRESH-INTERVAL;VALUE=DURATION:PT1H
X-Robots-Tag:noindex
X-PUBLISHED-TTL:PT1H
BEGIN:VTIMEZONE
TZID:Europe/Helsinki
BEGIN:DAYLIGHT
TZOFFSETFROM:+0200
TZOFFSETTO:+0300
TZNAME:EEST
DTSTART:20190331T010000
END:DAYLIGHT
BEGIN:STANDARD
TZOFFSETFROM:+0300
TZOFFSETTO:+0200
TZNAME:EET
DTSTART:20191027T010000
END:STANDARD
BEGIN:DAYLIGHT
TZOFFSETFROM:+0200
TZOFFSETTO:+0300
TZNAME:EEST
DTSTART:20200329T010000
END:DAYLIGHT
BEGIN:STANDARD
TZOFFSETFROM:+0300
TZOFFSETTO:+0200
TZNAME:EET
DTSTART:20201025T010000
END:STANDARD
BEGIN:DAYLIGHT
TZOFFSETFROM:+0200
TZOFFSETTO:+0300
TZNAME:EEST
DTSTART:20210328T010000
END:DAYLIGHT
BEGIN:STANDARD
TZOFFSETFROM:+0300
TZOFFSETTO:+0200
TZNAME:EET
DTSTART:20211031T010000
END:STANDARD
END:VTIMEZONE
BEGIN:VEVENT
DTSTART;VALUE=DATE:20200613
DTEND;VALUE=DATE:20200614
DTSTAMP:20260424T081233
CREATED:20200512T043436Z
LAST-MODIFIED:20200512T043436Z
UID:1253-1592006400-1592092799@siuntionvenekerho.fi
SUMMARY:Eskaaderi Porsön saareen ja Ryssklobbenille
DESCRIPTION:Lauantaina 13. kesäkuuta lähdemme Porsön saareen ja Ryssklobbenille. Kokoonnutaan satamaan ja lähdemme liikkeelle klo 10. \nPerillä on opastettu kierros Porsön saaressa. Mukaan tulee kaasugrilli\, jolla grillaamme makkaraa. Kerho hankki makkaraa\, juomaa ja salaattia. Omia grillattavia voi toki myös ottaa mukaan. Tästä tulee vielä lisää infoa lähempänä eskaaderia. \nNyt kun hallitus on sallinut 50 ihmisen kokoontumiset kesäkuun alusta alkaen\, niin tämän eskaaderin järjestäminen on sallittu. \nIlmoittautuminen mukaan ville.lindfors@iki.fi tai 0400-418579. \nTerkkuja\,  Ville
URL:https://siuntionvenekerho.fi/event/eskaaderi-porson-saareen-ja-ryssklobbenille/
END:VEVENT
END:VCALENDAR