BEGIN:VCALENDAR
VERSION:2.0
PRODID:-//Siuntion Venekerho - Sjunde&aring; B&aring;tklubb ry - ECPv6.15.20//NONSGML v1.0//EN
CALSCALE:GREGORIAN
METHOD:PUBLISH
X-ORIGINAL-URL:https://siuntionvenekerho.fi
X-WR-CALDESC:Events for Siuntion Venekerho - Sjunde&aring; B&aring;tklubb ry
REFRESH-INTERVAL;VALUE=DURATION:PT1H
X-Robots-Tag:noindex
X-PUBLISHED-TTL:PT1H
BEGIN:VTIMEZONE
TZID:Europe/Helsinki
BEGIN:DAYLIGHT
TZOFFSETFROM:+0200
TZOFFSETTO:+0300
TZNAME:EEST
DTSTART:20250330T010000
END:DAYLIGHT
BEGIN:STANDARD
TZOFFSETFROM:+0300
TZOFFSETTO:+0200
TZNAME:EET
DTSTART:20251026T010000
END:STANDARD
BEGIN:DAYLIGHT
TZOFFSETFROM:+0200
TZOFFSETTO:+0300
TZNAME:EEST
DTSTART:20260329T010000
END:DAYLIGHT
BEGIN:STANDARD
TZOFFSETFROM:+0300
TZOFFSETTO:+0200
TZNAME:EET
DTSTART:20261025T010000
END:STANDARD
BEGIN:DAYLIGHT
TZOFFSETFROM:+0200
TZOFFSETTO:+0300
TZNAME:EEST
DTSTART:20270328T010000
END:DAYLIGHT
BEGIN:STANDARD
TZOFFSETFROM:+0300
TZOFFSETTO:+0200
TZNAME:EET
DTSTART:20271031T010000
END:STANDARD
END:VTIMEZONE
BEGIN:VEVENT
DTSTART;TZID=Europe/Helsinki:20260502T080000
DTEND;TZID=Europe/Helsinki:20260502T120000
DTSTAMP:20260421T053705
CREATED:20251231T082310Z
LAST-MODIFIED:20251231T082310Z
UID:2787-1777708800-1777723200@siuntionvenekerho.fi
SUMMARY:Veneiden lasku 2
DESCRIPTION:Alkaen klo 8:00 \nVaraa nosto laittamalla nimesi ilmoitustaululla olevaan listaan. Nostojärjestys nimilistan mukaan. \nNostot suorittaa Jussi Kanninen ja maksu suoritetaan suoraan hänelle.
URL:https://siuntionvenekerho.fi/event/veneiden-lasku-2-4/
END:VEVENT
BEGIN:VEVENT
DTSTART;TZID=Europe/Helsinki:20260509T080000
DTEND;TZID=Europe/Helsinki:20260509T120000
DTSTAMP:20260421T053705
CREATED:20251231T082403Z
LAST-MODIFIED:20251231T082403Z
UID:2789-1778313600-1778328000@siuntionvenekerho.fi
SUMMARY:Veneiden lasku 3
DESCRIPTION:Alkaen klo 8:00 \nVaraa nosto laittamalla nimesi ilmoitustaululla olevaan listaan. Nostojärjestys nimilistan mukaan. \nNostot suorittaa Jussi Kanninen ja maksu suoritetaan suoraan hänelle.
URL:https://siuntionvenekerho.fi/event/veneiden-lasku-3-4/
END:VEVENT
BEGIN:VEVENT
DTSTART;TZID=Europe/Helsinki:20260516T080000
DTEND;TZID=Europe/Helsinki:20260516T120000
DTSTAMP:20260421T053705
CREATED:20251231T082440Z
LAST-MODIFIED:20251231T082440Z
UID:2791-1778918400-1778932800@siuntionvenekerho.fi
SUMMARY:Veneiden lasku 4
DESCRIPTION:Alkaen klo 8:00 \nVaraa nosto laittamalla nimesi ilmoitustaululla olevaan listaan. Nostojärjestys nimilistan mukaan. \nNostot suorittaa Jussi Kanninen ja maksu suoritetaan suoraan hänelle.
URL:https://siuntionvenekerho.fi/event/veneiden-lasku-4-4/
END:VEVENT
BEGIN:VEVENT
DTSTART;TZID=Europe/Helsinki:20260523T100000
DTEND;TZID=Europe/Helsinki:20260523T120000
DTSTAMP:20260421T053705
CREATED:20251231T082804Z
LAST-MODIFIED:20251231T082804Z
UID:2793-1779530400-1779537600@siuntionvenekerho.fi
SUMMARY:Kevät talkoot
DESCRIPTION:
URL:https://siuntionvenekerho.fi/event/kevat-talkoot-4/
END:VEVENT
END:VCALENDAR