BEGIN:VCALENDAR
VERSION:2.0
PRODID:-//Siuntion Venekerho - Sjunde&aring; B&aring;tklubb ry - ECPv6.15.20//NONSGML v1.0//EN
CALSCALE:GREGORIAN
METHOD:PUBLISH
X-ORIGINAL-URL:https://siuntionvenekerho.fi
X-WR-CALDESC:Events for Siuntion Venekerho - Sjunde&aring; B&aring;tklubb ry
REFRESH-INTERVAL;VALUE=DURATION:PT1H
X-Robots-Tag:noindex
X-PUBLISHED-TTL:PT1H
BEGIN:VTIMEZONE
TZID:Europe/Helsinki
BEGIN:DAYLIGHT
TZOFFSETFROM:+0200
TZOFFSETTO:+0300
TZNAME:EEST
DTSTART:20210328T010000
END:DAYLIGHT
BEGIN:STANDARD
TZOFFSETFROM:+0300
TZOFFSETTO:+0200
TZNAME:EET
DTSTART:20211031T010000
END:STANDARD
BEGIN:DAYLIGHT
TZOFFSETFROM:+0200
TZOFFSETTO:+0300
TZNAME:EEST
DTSTART:20220327T010000
END:DAYLIGHT
BEGIN:STANDARD
TZOFFSETFROM:+0300
TZOFFSETTO:+0200
TZNAME:EET
DTSTART:20221030T010000
END:STANDARD
BEGIN:DAYLIGHT
TZOFFSETFROM:+0200
TZOFFSETTO:+0300
TZNAME:EEST
DTSTART:20230326T010000
END:DAYLIGHT
BEGIN:STANDARD
TZOFFSETFROM:+0300
TZOFFSETTO:+0200
TZNAME:EET
DTSTART:20231029T010000
END:STANDARD
END:VTIMEZONE
BEGIN:VEVENT
DTSTART;TZID=Europe/Helsinki:20220606T090000
DTEND;TZID=Europe/Helsinki:20220610T160000
DTSTAMP:20260420T124650
CREATED:20220330T064935Z
LAST-MODIFIED:20220330T064935Z
UID:1647-1654506000-1654876800@siuntionvenekerho.fi
SUMMARY:Peruspurjehduskurssi
DESCRIPTION:Peruspurjehduskoulu (6.6 – 10.6 klo 9 – 16) on tarkoitettu lapsille ja nuorille\, joilla ei ole aikaisempaa kokemusta purjehduksesta\, alkeistason perusteet ovat hieman ruosteessa tai merellä kulkeminen muuten vain kiinnostaa. Kurssilla käymme läpi alkeistason asioita jollapurjehduksesta Suomen Purjehdus- ja Veneilyliiton vihreän merkin mukaisesti. Opettelemme myös tärkeitä vesillä liikkumisen taitoja sekä merenkulkuun liittyviä asioita kuten merimerkkejä koulutettujen ohjaajien kanssa. Viikon aikana toimintaa on\, sekä merellä että maalla ja saat pitää hauskaa uusien kavereiden kanssa. Kurssin hinta on 140€ jäsenperheelle\, muutoin 160€. Kurssille mahtuu 14 purjehduskoululaista.
URL:https://siuntionvenekerho.fi/event/peruspurjehduskurssi/
LOCATION:SVBK satama\, kotilahdensatama\, siuntio\, 02580\, Suomi
END:VEVENT
END:VCALENDAR